BEGIN:VCALENDAR
VERSION:2.0
PRODID:-//KSRN Certifications, LLC - ECPv6.15.17//NONSGML v1.0//EN
CALSCALE:GREGORIAN
METHOD:PUBLISH
X-WR-CALNAME:KSRN Certifications, LLC
X-ORIGINAL-URL:https://www.ksrncertifications.com
X-WR-CALDESC:Events for KSRN Certifications, LLC
REFRESH-INTERVAL;VALUE=DURATION:PT1H
X-Robots-Tag:noindex
X-PUBLISHED-TTL:PT1H
BEGIN:VTIMEZONE
TZID:America/Chicago
BEGIN:DAYLIGHT
TZOFFSETFROM:-0600
TZOFFSETTO:-0500
TZNAME:CDT
DTSTART:20230312T080000
END:DAYLIGHT
BEGIN:STANDARD
TZOFFSETFROM:-0500
TZOFFSETTO:-0600
TZNAME:CST
DTSTART:20231105T070000
END:STANDARD
BEGIN:DAYLIGHT
TZOFFSETFROM:-0600
TZOFFSETTO:-0500
TZNAME:CDT
DTSTART:20240310T080000
END:DAYLIGHT
BEGIN:STANDARD
TZOFFSETFROM:-0500
TZOFFSETTO:-0600
TZNAME:CST
DTSTART:20241103T070000
END:STANDARD
BEGIN:DAYLIGHT
TZOFFSETFROM:-0600
TZOFFSETTO:-0500
TZNAME:CDT
DTSTART:20250309T080000
END:DAYLIGHT
BEGIN:STANDARD
TZOFFSETFROM:-0500
TZOFFSETTO:-0600
TZNAME:CST
DTSTART:20251102T070000
END:STANDARD
END:VTIMEZONE
BEGIN:VEVENT
DTSTART;TZID=America/Chicago:20240916T083000
DTEND;TZID=America/Chicago:20240916T123000
DTSTAMP:20260420T030152
CREATED:20240805T030646Z
LAST-MODIFIED:20240911T205920Z
UID:10000032-1726475400-1726489800@www.ksrncertifications.com
SUMMARY:PALS Renewal Class at TCO Crosstown Surgery Center
DESCRIPTION:Class duration is 4.0 hours. Nursing CEU’s: 4. \nPALS is a comprehensive course that is focused on evaluating the infant or child by using\nthe systematic approach so the participant can rapidly identify the problems and perform\nappropriate interventions on an acutely ill child or infant. It is designed for healthcare\nproviders who may be involved &amp; participate in the management of patients in these types of\nsituations. \nNo Show Policy: 24 hour notification is required for non-attendance. Failure to let us know if you will not be attending will incur a $30 no-show fee to your surgery center.
URL:https://www.ksrncertifications.com/event/pals-renewal-class-at-tco-crosstown-surgery-center/
LOCATION:TCO Crosstown Surgery Center\, 4010 W 65th St\, Edina\, MN\, 55435\, United States
ATTACH;FMTTYPE=image/png:https://www.ksrncertifications.com/wp-content/uploads/2024/07/AHAPALS.png
ORGANIZER;CN="Kerri Rander":MAILTO:kerri@ksrncertifications.com
END:VEVENT
BEGIN:VEVENT
DTSTART;TZID=America/Chicago:20240914T130000
DTEND;TZID=America/Chicago:20240914T160000
DTSTAMP:20260420T030152
CREATED:20240805T030344Z
LAST-MODIFIED:20240805T030344Z
UID:10000031-1726318800-1726329600@www.ksrncertifications.com
SUMMARY:PALS Renewal Class at High Pointe Surgery Center
DESCRIPTION:Class duration is 3.5 hours. Nursing CEU’s: 4. \nPALS is a comprehensive course that is focused on evaluating the infant or child by using\nthe systematic approach so the participant can rapidly identify the problems and perform\nappropriate interventions on an acutely ill child or infant. It is designed for healthcare\nproviders who may be involved &amp; participate in the management of patients in these types of\nsituations. \nNo Show Policy: 24 hour notification is required for non-attendance. Failure to let us know if you will not be attending will incur a $30 no-show fee to your surgery center.
URL:https://www.ksrncertifications.com/event/pals-renewal-class-at-high-pointe-surgery-center/
LOCATION:High Pointe Surgery Center\, 8650 Hudson Blvd\, Lake Elmo\, MN\, 55042\, United States
ATTACH;FMTTYPE=image/png:https://www.ksrncertifications.com/wp-content/uploads/2024/07/AHAPALS.png
ORGANIZER;CN="Kerri Rander":MAILTO:kerri@ksrncertifications.com
END:VEVENT
BEGIN:VEVENT
DTSTART;TZID=America/Chicago:20240914T093000
DTEND;TZID=America/Chicago:20240914T130000
DTSTAMP:20260420T030152
CREATED:20240805T025657Z
LAST-MODIFIED:20240805T025657Z
UID:10000030-1726306200-1726318800@www.ksrncertifications.com
SUMMARY:ACLS Renewal Class at High Pointe Surgery Center
DESCRIPTION:Class duration is 4 hours. Nursing CEU’s: 4 \nACLS is a comprehensive course that builds on the foundation of lifesaving BLS skills. ACLS is focused on identifying someone who is in cardiopulmonary arrest or experiencing other cardiovascular emergencies. It is designed for healthcare providers who may be involved and participate in the management of patients in these types of situations. \nNo Show Policy: 24 hour notification is required for non-attendance. Failure to let us know if you will not be attending will incur a $30 no-show fee to your surgery center.
URL:https://www.ksrncertifications.com/event/acls-renewal-class-at-high-pointe-surgery-center/
LOCATION:High Pointe Surgery Center\, 8650 Hudson Blvd\, Lake Elmo\, MN\, 55042\, United States
ORGANIZER;CN="Kerri Rander":MAILTO:kerri@ksrncertifications.com
END:VEVENT
BEGIN:VEVENT
DTSTART;TZID=America/Chicago:20240914T080000
DTEND;TZID=America/Chicago:20240914T093000
DTSTAMP:20260420T030152
CREATED:20240805T025012Z
LAST-MODIFIED:20240805T025012Z
UID:10000029-1726300800-1726306200@www.ksrncertifications.com
SUMMARY:BLS Renewal Class at High Pointe Surgery Center
DESCRIPTION:Class duration is 8-9:30am. Nursing CEU’s: 1.5. \nBLS is a comprehensive course that focuses on teaching participants the fundamental life- saving skills to help people experiencing cardiac arrest\, respiratory arrest or an airway obstruction. After completing this course\, participants will have the knowledge and feel confident in their abilities to perform lifesaving skills. \nNo Show Policy: 24 hour notification is required for non-attendance. Failure to let us know if you will not be attending will incur a $30 no-show fee to your surgery center.
URL:https://www.ksrncertifications.com/event/bls-renewal-class-at-high-pointe-surgery-center/
LOCATION:High Pointe Surgery Center\, 8650 Hudson Blvd\, Lake Elmo\, MN\, 55042\, United States
ORGANIZER;CN="Kerri Rander":MAILTO:kerri@ksrncertifications.com
END:VEVENT
BEGIN:VEVENT
DTSTART;TZID=America/Chicago:20240913T093000
DTEND;TZID=America/Chicago:20240913T120000
DTSTAMP:20260420T030152
CREATED:20240805T024605Z
LAST-MODIFIED:20240805T025215Z
UID:10000028-1726219800-1726228800@www.ksrncertifications.com
SUMMARY:ACLS Renewal Class at Alina Health Minneapolis Heart Institute-Edina
DESCRIPTION:Class duration is 4 hours. Nursing CEU’s: 4 \nACLS is a comprehensive course that builds on the foundation of lifesaving BLS skills. ACLS is focused on identifying someone who is in cardiopulmonary arrest or experiencing other cardiovascular emergencies. It is designed for healthcare providers who may be involved and participate in the management of patients in these types of situations. \nNo Show Policy: 24 hour notification is required for non-attendance. Failure to let us know if you will not be attending will incur a $30 no-show fee to your surgery center.
URL:https://www.ksrncertifications.com/event/acls-renewal-class-at-alina-health-minneapolis-heart-institute-edina/
LOCATION:Allina Health Minneapolis Heart Institute at Edina\, 7373 France Avenue South\, Edina\, 55435\, United States
ORGANIZER;CN="Kerri Rander":MAILTO:kerri@ksrncertifications.com
END:VEVENT
BEGIN:VEVENT
DTSTART;TZID=America/Chicago:20240913T080000
DTEND;TZID=America/Chicago:20240913T093000
DTSTAMP:20260420T030152
CREATED:20240805T024216Z
LAST-MODIFIED:20240805T024643Z
UID:10000027-1726214400-1726219800@www.ksrncertifications.com
SUMMARY:BLS Renewal Class at Alina Health Minneapolis Heart Institute-Edina
DESCRIPTION:Class duration is 8-9:30am. Nursing CEU’s: 1.5. \nBLS is a comprehensive course that focuses on teaching participants the fundamental life- saving skills to help people experiencing cardiac arrest\, respiratory arrest or an airway obstruction. After completing this course\, participants will have the knowledge and feel confident in their abilities to perform lifesaving skills. \nNo Show Policy: 24 hour notification is required for non-attendance. Failure to let us know if you will not be attending will incur a $30 no-show fee to your surgery center.
URL:https://www.ksrncertifications.com/event/bls-renewal-class-at-alina-health-minneapolis-heart-institute-edina/
LOCATION:Allina Health Minneapolis Heart Institute at Edina\, 7373 France Avenue South\, Edina\, 55435\, United States
ORGANIZER;CN="Kerri Rander":MAILTO:kerri@ksrncertifications.com
END:VEVENT
BEGIN:VEVENT
DTSTART;TZID=America/Chicago:20240907T130000
DTEND;TZID=America/Chicago:20240907T160000
DTSTAMP:20260420T030152
CREATED:20240805T022453Z
LAST-MODIFIED:20240805T022453Z
UID:10000026-1725714000-1725724800@www.ksrncertifications.com
SUMMARY:PALS Renewal Class at Maple Grove Ambulatory Surgery Center
DESCRIPTION:Class duration is 3.5 hours. Nursing CEU’s: 4. \nPALS is a comprehensive course that is focused on evaluating the infant or child by using\nthe systematic approach so the participant can rapidly identify the problems and perform\nappropriate interventions on an acutely ill child or infant. It is designed for healthcare\nproviders who may be involved &amp; participate in the management of patients in these types of\nsituations. \nNo Show Policy: 24 hour notification is required for non-attendance. Failure to let us know if you will not be attending will incur a $30 no-show fee to your surgery center.
URL:https://www.ksrncertifications.com/event/pals-renewal-class-at-maple-grove-ambulatory-surgery-center/
LOCATION:North Memorial Ambulatory Surgery Center at Maple Grove\, 9855 Hospital Dr\, Maple Grove\, MN\, 55369\, United States
ATTACH;FMTTYPE=image/png:https://www.ksrncertifications.com/wp-content/uploads/2024/07/AHAPALS.png
ORGANIZER;CN="Kerri Rander":MAILTO:kerri@ksrncertifications.com
END:VEVENT
BEGIN:VEVENT
DTSTART;TZID=America/Chicago:20240907T093000
DTEND;TZID=America/Chicago:20240907T130000
DTSTAMP:20260420T030152
CREATED:20240805T021250Z
LAST-MODIFIED:20240805T025040Z
UID:10000024-1725701400-1725714000@www.ksrncertifications.com
SUMMARY:ACLS Class at Maple Grove Ambulatory Surgery Center
DESCRIPTION:Class duration is 4 hours. Nursing CEU’s: 4 \nACLS is a comprehensive course that builds on the foundation of lifesaving BLS skills. ACLS is focused on identifying someone who is in cardiopulmonary arrest or experiencing other cardiovascular emergencies. It is designed for healthcare providers who may be involved and participate in the management of patients in these types of situations. \nNo Show Policy: 24 hour notification is required for non-attendance. Failure to let us know if you will not be attending will incur a $30 no-show fee to your surgery center.
URL:https://www.ksrncertifications.com/event/acls-class-at-maple-grove-ambulatory-surgery-center/
LOCATION:North Memorial Ambulatory Surgery Center at Maple Grove\, 9855 Hospital Dr\, Maple Grove\, MN\, 55369\, United States
ORGANIZER;CN="Kerri Rander":MAILTO:kerri@ksrncertifications.com
END:VEVENT
BEGIN:VEVENT
DTSTART;TZID=America/Chicago:20240907T080000
DTEND;TZID=America/Chicago:20240907T093000
DTSTAMP:20260420T030152
CREATED:20240805T022048Z
LAST-MODIFIED:20240805T022048Z
UID:10000025-1725696000-1725701400@www.ksrncertifications.com
SUMMARY:BLS Class at Maple Grove Ambulatory Surgery Center
DESCRIPTION:Class duration is 8-9:30am. Nursing CEU’s: 1.5. \nBLS is a comprehensive course that focuses on teaching participants the fundamental life- saving skills to help people experiencing cardiac arrest\, respiratory arrest or an airway obstruction. After completing this course\, participants will have the knowledge and feel confident in their abilities to perform lifesaving skills. \nNo Show Policy: 24 hour notification is required for non-attendance. Failure to let us know if you will not be attending will incur a $30 no-show fee to your surgery center.
URL:https://www.ksrncertifications.com/event/bls-class-at-maple-grove-ambulatory-surgery-center/
LOCATION:North Memorial Ambulatory Surgery Center at Maple Grove\, 9855 Hospital Dr\, Maple Grove\, MN\, 55369\, United States
ORGANIZER;CN="Kerri Rander":MAILTO:kerri@ksrncertifications.com
END:VEVENT
BEGIN:VEVENT
DTSTART;TZID=America/Chicago:20240814T103000
DTEND;TZID=America/Chicago:20240814T143000
DTSTAMP:20260420T030152
CREATED:20240723T215227Z
LAST-MODIFIED:20240723T215227Z
UID:10000017-1723631400-1723645800@www.ksrncertifications.com
SUMMARY:ACLS Renewal Class
DESCRIPTION:Class duration is 4 hours. Nursing CEU’s: 4 \nACLS is a comprehensive course that builds on the foundation of lifesaving BLS skills. ACLS is focused on identifying someone who is in cardiopulmonary arrest or experiencing other cardiovascular emergencies. It is designed for healthcare providers who may be involved and participate in the management of patients in these types of situations. \n24 hour notification is required for non-attendance. Failure to let us know if you will not be attending will incur a $30 no-show fee to your surgery center.
URL:https://www.ksrncertifications.com/event/acls-renewal-class-2/
LOCATION:TCO Edina\, 4010 West 65th street\, Edina\, 55435\, United States
ORGANIZER;CN="Kerri Rander":MAILTO:kerri@ksrncertifications.com
END:VEVENT
BEGIN:VEVENT
DTSTART;TZID=America/Chicago:20240813T090000
DTEND;TZID=America/Chicago:20240813T150000
DTSTAMP:20260420T030152
CREATED:20240723T214530Z
LAST-MODIFIED:20240723T214530Z
UID:10000016-1723539600-1723561200@www.ksrncertifications.com
SUMMARY:Initial PALS Class
DESCRIPTION:Class duration is 8 hours. Nursing CEU’s: 8. \nPALS is a comprehensive course that is focused on evaluating the infant or child by using\nthe systematic approach so the participant can rapidly identify the problems and perform\nappropriate interventions on an acutely ill child or infant. It is designed for healthcare\nproviders who may be involved &amp; participate in the management of patients in these types of\nsituations. \n24 hour notification is required for non-attendance. Failure to let us know if you will not be attending will incur a $30 no-show fee to your surgery center.
URL:https://www.ksrncertifications.com/event/initial-pals-class/
LOCATION:KSRN Home
ATTACH;FMTTYPE=image/png:https://www.ksrncertifications.com/wp-content/uploads/2024/07/AHAPALS.png
ORGANIZER;CN="Kerri Rander":MAILTO:kerri@ksrncertifications.com
END:VEVENT
BEGIN:VEVENT
DTSTART;TZID=America/Chicago:20240806T100000
DTEND;TZID=America/Chicago:20240806T140000
DTSTAMP:20260420T030152
CREATED:20240725T024650Z
LAST-MODIFIED:20240725T024650Z
UID:10000020-1722938400-1722952800@www.ksrncertifications.com
SUMMARY:ACLS Renewal Class
DESCRIPTION:Duration is 4 hours. Nursing CEU’s -4 \nACLS is a comprehensive course that builds on the foundation of lifesaving BLS skills.\nACLS is focused on identifying someone who is in cardiopulmonary arrest or experiencing\nother cardiovascular emergencies. It is designed for healthcare providers who may be\ninvolved and participate in the management of patients in these types of situations. \nThe renewal classes participants will review the material in a PowerPoint presentation\, AHA videos & practice their cognitive and psychomotor skills through small-group case scenarios. \n24 hour notification is required for non-attendance. Failure to let us know if you will not be attending will incur a $30 no-show fee to your surgery center.
URL:https://www.ksrncertifications.com/event/acls-renewal-class-3/
LOCATION:KSRN Home
ORGANIZER;CN="Kerri Rander":MAILTO:kerri@ksrncertifications.com
END:VEVENT
BEGIN:VEVENT
DTSTART;TZID=America/Chicago:20240801T130000
DTEND;TZID=America/Chicago:20240801T163000
DTSTAMP:20260420T030152
CREATED:20240723T213656Z
LAST-MODIFIED:20240723T213656Z
UID:10000015-1722517200-1722529800@www.ksrncertifications.com
SUMMARY:PALS Renewal Class
DESCRIPTION:Class duration is 3.5 hours. Nursing CEU’s: 4. \nPALS is a comprehensive course that is focused on evaluating the infant or child by using\nthe systematic approach so the participant can rapidly identify the problems and perform\nappropriate interventions on an acutely ill child or infant. It is designed for healthcare\nproviders who may be involved &amp; participate in the management of patients in these types of\nsituations. \n24 hour notification is required for non-attendance. Failure to let us know if you will not be attending will incur a $30 no-show fee to your surgery center.
URL:https://www.ksrncertifications.com/event/pals-renewal-class/
LOCATION:Surgical Specialty Center of Minnesota\, 6099 Wayzata Blvd Suite 300\, St. Louis Park\, 55416\, United States
ATTACH;FMTTYPE=image/png:https://www.ksrncertifications.com/wp-content/uploads/2024/07/AHAPALS.png
ORGANIZER;CN="Kerri Rander":MAILTO:kerri@ksrncertifications.com
END:VEVENT
BEGIN:VEVENT
DTSTART;TZID=America/Chicago:20240801T093000
DTEND;TZID=America/Chicago:20240801T130000
DTSTAMP:20260420T030152
CREATED:20240723T212929Z
LAST-MODIFIED:20240723T215253Z
UID:10000014-1722504600-1722517200@www.ksrncertifications.com
SUMMARY:ACLS Renewal Class
DESCRIPTION:Class duration is 4 hours. Nursing CEU’s: 4 \nACLS is a comprehensive course that builds on the foundation of lifesaving BLS skills. ACLS is focused on identifying someone who is in cardiopulmonary arrest or experiencing other cardiovascular emergencies. It is designed for healthcare providers who may be involved and participate in the management of patients in these types of situations. \n24 hour notification is required for non-attendance. Failure to let us know if you will not be attending will incur a $30 no-show fee to your surgery center.
URL:https://www.ksrncertifications.com/event/acls-renewal-class/
LOCATION:Surgical Specialty Center of Minnesota\, 6099 Wayzata Blvd Suite 300\, St. Louis Park\, 55416\, United States
ORGANIZER;CN="Kerri Rander":MAILTO:kerri@ksrncertifications.com
END:VEVENT
BEGIN:VEVENT
DTSTART;TZID=America/Chicago:20240801T080000
DTEND;TZID=America/Chicago:20240801T093000
DTSTAMP:20260420T030152
CREATED:20240723T211904Z
LAST-MODIFIED:20240723T211904Z
UID:10000013-1722499200-1722504600@www.ksrncertifications.com
SUMMARY:BLS Renewal Class
DESCRIPTION:Class duration is 8-9:30am. Nursing CEU’s: 1.5. \nBLS is a comprehensive course that focuses on teaching participants the fundamental life- saving skills to help people experiencing cardiac arrest\, respiratory arrest or an airway obstruction. After completing this course\, participants will have the knowledge and feel confident in their abilities to perform lifesaving skills. \n24 hour notification is required for non-attendance. Failure to let us know if you will not be attending will incur a $30 no-show fee to your surgery center.
URL:https://www.ksrncertifications.com/event/bls-renewal-class/
LOCATION:Surgical Specialty Center of Minnesota\, 6099 Wayzata Blvd Suite 300\, St. Louis Park\, 55416\, United States
ORGANIZER;CN="Kerri Rander":MAILTO:kerri@ksrncertifications.com
END:VEVENT
BEGIN:VEVENT
DTSTART;TZID=America/Chicago:20240730T090000
DTEND;TZID=America/Chicago:20240730T150000
DTSTAMP:20260420T030152
CREATED:20240724T034056Z
LAST-MODIFIED:20240724T034313Z
UID:10000018-1722330000-1722351600@www.ksrncertifications.com
SUMMARY:Initial ACLS
DESCRIPTION:Duration is 8 hours. Nursing CEU’s -8 \nACLS is a comprehensive course that builds on the foundation of lifesaving BLS skills.\nACLS is focused on identifying someone who is in cardiopulmonary arrest or experiencing\nother cardiovascular emergencies. It is designed for healthcare providers who may be\ninvolved and participate in the management of patients in these types of situations. \nParticipants who have never taken ACLS should take the initial class. During the initial class AHA videos will be shown and after each section the instructor will encourage the participants to have open discussions so they can further their knowledge. They will also have the opportunity for more simulation to learn and practice their cognitive and psychomotor skills. The initial course is more comprehensive\, providing a more in-depth exploration of material\, techniques and practices\, therefore making the approach and duration longer than the renewal classes. During the renewal classes participants will review the material in a PowerPoint presentation\, AHA videos & practice their cognitive and psychomotor skills through small-group case scenarios. \n24 hour notification is required for non-attendance. Failure to let us know if you will not be attending will incur a $30 no-show fee to your surgery center.
URL:https://www.ksrncertifications.com/event/initial-acls-2/
LOCATION:KSRN Home
ORGANIZER;CN="Kerri Rander":MAILTO:kerri@ksrncertifications.com
END:VEVENT
BEGIN:VEVENT
DTSTART;TZID=America/Chicago:20240630T093000
DTEND;TZID=America/Chicago:20240630T123000
DTSTAMP:20260420T030152
CREATED:20240625T025415Z
LAST-MODIFIED:20240625T025415Z
UID:10000009-1719739800-1719750600@www.ksrncertifications.com
SUMMARY:Initial ACLS class
DESCRIPTION:This class is for people who have never taken the ACLS class.
URL:https://www.ksrncertifications.com/event/initial-acls-class/
LOCATION:Minnesota Eye Laser & Surgery Centers – Minnetonka\, 10709 Wayzata Blvd STE 100\, Minnetonka\, MN\, 55305\, United States
ORGANIZER;CN="Kerri Rander":MAILTO:kerri@ksrncertifications.com
END:VEVENT
BEGIN:VEVENT
DTSTART;TZID=America/Chicago:20240630T093000
DTEND;TZID=America/Chicago:20240630T123000
DTSTAMP:20260420T030152
CREATED:20240619T013551Z
LAST-MODIFIED:20240619T014104Z
UID:10000008-1719739800-1719750600@www.ksrncertifications.com
SUMMARY:ACLS Class
DESCRIPTION:ACLS Class at MN Eye Laser & Surgery Centers – Minnetonka
URL:https://www.ksrncertifications.com/event/acls-class/
LOCATION:Minnesota Eye Laser & Surgery Centers – Minnetonka\, 10709 Wayzata Blvd STE 100\, Minnetonka\, MN\, 55305\, United States
ORGANIZER;CN="Kerri Rander":MAILTO:kerri@ksrncertifications.com
END:VEVENT
BEGIN:VEVENT
DTSTART;TZID=America/Chicago:20240630T083000
DTEND;TZID=America/Chicago:20240630T093000
DTSTAMP:20260420T030152
CREATED:20240619T013250Z
LAST-MODIFIED:20240619T014305Z
UID:10000007-1719736200-1719739800@www.ksrncertifications.com
SUMMARY:BLS Class
DESCRIPTION:BLS class
URL:https://www.ksrncertifications.com/event/bls-class/
LOCATION:Minnesota Eye Laser & Surgery Centers – Minnetonka\, 10709 Wayzata Blvd STE 100\, Minnetonka\, MN\, 55305\, United States
ORGANIZER;CN="Kerri Rander":MAILTO:kerri@ksrncertifications.com
END:VEVENT
BEGIN:VEVENT
DTSTART;TZID=America/Chicago:20240607T110000
DTEND;TZID=America/Chicago:20240607T130000
DTSTAMP:20260420T030152
CREATED:20240607T144319Z
LAST-MODIFIED:20240607T144319Z
UID:10000001-1717758000-1717765200@www.ksrncertifications.com
SUMMARY:PALS Heart Code
DESCRIPTION:PALS training session
URL:https://www.ksrncertifications.com/event/pals-heart-code/
LOCATION:KSRN Home
ORGANIZER;CN="Kerri Rander":MAILTO:kerri@ksrncertifications.com
END:VEVENT
END:VCALENDAR