BEGIN:VCALENDAR
VERSION:2.0
PRODID:-//KSRN Certifications, LLC - ECPv6.15.17//NONSGML v1.0//EN
CALSCALE:GREGORIAN
METHOD:PUBLISH
X-ORIGINAL-URL:https://www.ksrncertifications.com
X-WR-CALDESC:Events for KSRN Certifications, LLC
REFRESH-INTERVAL;VALUE=DURATION:PT1H
X-Robots-Tag:noindex
X-PUBLISHED-TTL:PT1H
BEGIN:VTIMEZONE
TZID:America/Chicago
BEGIN:DAYLIGHT
TZOFFSETFROM:-0600
TZOFFSETTO:-0500
TZNAME:CDT
DTSTART:20230312T080000
END:DAYLIGHT
BEGIN:STANDARD
TZOFFSETFROM:-0500
TZOFFSETTO:-0600
TZNAME:CST
DTSTART:20231105T070000
END:STANDARD
BEGIN:DAYLIGHT
TZOFFSETFROM:-0600
TZOFFSETTO:-0500
TZNAME:CDT
DTSTART:20240310T080000
END:DAYLIGHT
BEGIN:STANDARD
TZOFFSETFROM:-0500
TZOFFSETTO:-0600
TZNAME:CST
DTSTART:20241103T070000
END:STANDARD
BEGIN:DAYLIGHT
TZOFFSETFROM:-0600
TZOFFSETTO:-0500
TZNAME:CDT
DTSTART:20250309T080000
END:DAYLIGHT
BEGIN:STANDARD
TZOFFSETFROM:-0500
TZOFFSETTO:-0600
TZNAME:CST
DTSTART:20251102T070000
END:STANDARD
END:VTIMEZONE
BEGIN:VEVENT
DTSTART;TZID=America/Chicago:20240730T090000
DTEND;TZID=America/Chicago:20240730T150000
DTSTAMP:20260422T075554
CREATED:20240724T034056Z
LAST-MODIFIED:20240724T034313Z
UID:10000018-1722330000-1722351600@www.ksrncertifications.com
SUMMARY:Initial ACLS
DESCRIPTION:Duration is 8 hours. Nursing CEU’s -8 \nACLS is a comprehensive course that builds on the foundation of lifesaving BLS skills.\nACLS is focused on identifying someone who is in cardiopulmonary arrest or experiencing\nother cardiovascular emergencies. It is designed for healthcare providers who may be\ninvolved and participate in the management of patients in these types of situations. \nParticipants who have never taken ACLS should take the initial class. During the initial class AHA videos will be shown and after each section the instructor will encourage the participants to have open discussions so they can further their knowledge. They will also have the opportunity for more simulation to learn and practice their cognitive and psychomotor skills. The initial course is more comprehensive\, providing a more in-depth exploration of material\, techniques and practices\, therefore making the approach and duration longer than the renewal classes. During the renewal classes participants will review the material in a PowerPoint presentation\, AHA videos & practice their cognitive and psychomotor skills through small-group case scenarios. \n24 hour notification is required for non-attendance. Failure to let us know if you will not be attending will incur a $30 no-show fee to your surgery center.
URL:https://www.ksrncertifications.com/event/initial-acls-2/
LOCATION:KSRN Home
ORGANIZER;CN="Kerri Rander":MAILTO:kerri@ksrncertifications.com
END:VEVENT
END:VCALENDAR