BEGIN:VCALENDAR
VERSION:2.0
PRODID:-//KSRN Certifications, LLC - ECPv6.15.17//NONSGML v1.0//EN
CALSCALE:GREGORIAN
METHOD:PUBLISH
X-ORIGINAL-URL:https://www.ksrncertifications.com
X-WR-CALDESC:Events for KSRN Certifications, LLC
REFRESH-INTERVAL;VALUE=DURATION:PT1H
X-Robots-Tag:noindex
X-PUBLISHED-TTL:PT1H
BEGIN:VTIMEZONE
TZID:America/Chicago
BEGIN:DAYLIGHT
TZOFFSETFROM:-0600
TZOFFSETTO:-0500
TZNAME:CDT
DTSTART:20240310T080000
END:DAYLIGHT
BEGIN:STANDARD
TZOFFSETFROM:-0500
TZOFFSETTO:-0600
TZNAME:CST
DTSTART:20241103T070000
END:STANDARD
BEGIN:DAYLIGHT
TZOFFSETFROM:-0600
TZOFFSETTO:-0500
TZNAME:CDT
DTSTART:20250309T080000
END:DAYLIGHT
BEGIN:STANDARD
TZOFFSETFROM:-0500
TZOFFSETTO:-0600
TZNAME:CST
DTSTART:20251102T070000
END:STANDARD
BEGIN:DAYLIGHT
TZOFFSETFROM:-0600
TZOFFSETTO:-0500
TZNAME:CDT
DTSTART:20260308T080000
END:DAYLIGHT
BEGIN:STANDARD
TZOFFSETFROM:-0500
TZOFFSETTO:-0600
TZNAME:CST
DTSTART:20261101T070000
END:STANDARD
END:VTIMEZONE
BEGIN:VEVENT
DTSTART;TZID=America/Chicago:20250403T090000
DTEND;TZID=America/Chicago:20250403T170000
DTSTAMP:20260424T112640
CREATED:20250221T165713Z
LAST-MODIFIED:20250325T162450Z
UID:10000128-1743670800-1743699600@www.ksrncertifications.com
SUMMARY:Initial PALS Class April 3rd at 11348 Eagle View Terrace\, Woodbury
DESCRIPTION:PALS is a comprehensive course that is focused on evaluating the infant or child by using the systematic approach so the participant can rapidly identify the problems and perform appropriate interventions on an acutely ill child or infant. It is designed for healthcare providers who may be involved with and participate in the management of patients in these types of situations. Each section will have a video component as well as group discussions\, hands-on practice and skills check-off to assess what you have learned. \nThis course includes: \n\nSystems of care\, pediatric BLS review & skill checks\nSystematic approach to assessment\nRespiratory emergency management\nShock emergency management\nCardiac emergencies\nPost-cardiac arrest care
URL:https://www.ksrncertifications.com/event/initial-pals-class-april-3rd-at-11348-eagle-view-terrace-woodbury/
LOCATION:KSRN Home
ATTACH;FMTTYPE=image/png:https://www.ksrncertifications.com/wp-content/uploads/2024/07/AHAPALS.png
ORGANIZER;CN="Kerri Rander":MAILTO:kerri@ksrncertifications.com
END:VEVENT
BEGIN:VEVENT
DTSTART;TZID=America/Chicago:20250404T080000
DTEND;TZID=America/Chicago:20250404T163000
DTSTAMP:20260424T112640
CREATED:20250304T202550Z
LAST-MODIFIED:20250304T202550Z
UID:10000130-1743753600-1743784200@www.ksrncertifications.com
SUMMARY:Initial PALS Class April 4th at Ames Surgery Center\, Ames\, Iowa
DESCRIPTION:PALS is a comprehensive course that is focused on evaluating the infant or child by using the systematic approach so the participant can rapidly identify the problems and perform appropriate interventions on an acutely ill child or infant. It is designed for healthcare providers who may be involved with and participate in the management of patients in these types of situations. Each section will have a video component as well as group discussions\, hands-on practice and skills check-off to assess what you have learned. \nThis course includes: \n\nSystems of care\, pediatric BLS review & skill checks\nSystematic approach to assessment\nRespiratory emergency management\nShock emergency management\nCardiac emergencies\nPost-cardiac arrest care
URL:https://www.ksrncertifications.com/event/initial-pals-class-april-4th-at-ames-surgery-center-ames-iowa/
LOCATION:Ames Surgeyr Center\, 2120 Bailey Ave\, Ames\, Iowa\, 50010
ATTACH;FMTTYPE=image/png:https://www.ksrncertifications.com/wp-content/uploads/2024/07/AHAPALS.png
ORGANIZER;CN="Kerri Rander":MAILTO:kerri@ksrncertifications.com
END:VEVENT
BEGIN:VEVENT
DTSTART;TZID=America/Chicago:20250405T080000
DTEND;TZID=America/Chicago:20250405T123000
DTSTAMP:20260424T112640
CREATED:20250304T203346Z
LAST-MODIFIED:20250304T203346Z
UID:10000131-1743840000-1743856200@www.ksrncertifications.com
SUMMARY:PALS Renewal Class April 5th at Ames Surgery Center\, Ames\, Iowa
DESCRIPTION:PALS is a comprehensive course that is focused on evaluating the infant or child by using the systematic approach so the participant can rapidly identify the problems and perform appropriate interventions on an acutely ill child or infant. It is designed for healthcare providers who may be involved with and participate in the management of patients in these types of situations. Each section will have a video component as well as group discussions\, hands-on practice and skills check-off to assess what you have learned. \nThis course includes: \n\nSystems of care\, pediatric BLS review & skill checks\nSystematic approach to assessment\nRespiratory emergency management\nShock emergency management\nCardiac emergencies\nPost-cardiac arrest care
URL:https://www.ksrncertifications.com/event/pals-renewal-class-april-5th-at-ames-surgery-center-ames-iowa/
LOCATION:Ames Surgeyr Center\, 2120 Bailey Ave\, Ames\, Iowa\, 50010
ATTACH;FMTTYPE=image/png:https://www.ksrncertifications.com/wp-content/uploads/2024/07/AHAPALS.png
ORGANIZER;CN="Kerri Rander":MAILTO:kerri@ksrncertifications.com
END:VEVENT
BEGIN:VEVENT
DTSTART;TZID=America/Chicago:20250409T080000
DTEND;TZID=America/Chicago:20250409T100000
DTSTAMP:20260424T112640
CREATED:20250123T194720Z
LAST-MODIFIED:20250324T212054Z
UID:10000112-1744185600-1744192800@www.ksrncertifications.com
SUMMARY:BLS Renewal Class April 9th at West Health Surgery Center
DESCRIPTION:BLS is a comprehensive course that focuses on teaching participants the fundamental life- saving skills to help people experiencing cardiac arrest\, respiratory arrest or an airway obstruction. After completing this course\, participants will have the knowledge and feel confident in their abilities to perform lifesaving skills. \nNo Show Policy: 24 hour notification is required for non-attendance. Failure to let us know if you will not be attending will incur a $30 no-show fee to your surgery center
URL:https://www.ksrncertifications.com/event/bls-renewal-class-april-9th-at-west-health-surgery-center/
LOCATION:West Health Surgery Center\, 2855 Campus Drive\, Plymouth\, 55441\, United States
ORGANIZER;CN="Kerri Rander":MAILTO:kerri@ksrncertifications.com
END:VEVENT
BEGIN:VEVENT
DTSTART;TZID=America/Chicago:20250416T103000
DTEND;TZID=America/Chicago:20250416T163000
DTSTAMP:20260424T112640
CREATED:20241014T161227Z
LAST-MODIFIED:20250407T221655Z
UID:10000051-1744799400-1744821000@www.ksrncertifications.com
SUMMARY:ACLS Renewal Class April 16th at TCO Crosstown Surgery Center
DESCRIPTION:Class duration is 8 hours. Nursing CEU’s: 8 \nACLS is a comprehensive course that builds on the foundation of lifesaving BLS skills. ACLS is focused on identifying someone who is in cardiopulmonary arrest or experiencing other cardiovascular emergencies. It is designed for healthcare providers who may be involved and participate in the management of patients in these types of situations. \nNo Show Policy: 24 hour notification is required for non-attendance. Failure to let us know if you will not be attending will incur a $30 no-show fee to your surgery center.
URL:https://www.ksrncertifications.com/event/acls-renewal-class-april-16th-at-tco-crosstown-surgery-center/
LOCATION:TCO Crosstown Surgery Center\, 4010 W 65th St\, Edina\, MN\, 55435\, United States
ORGANIZER;CN="Kerri Rander":MAILTO:kerri@ksrncertifications.com
END:VEVENT
BEGIN:VEVENT
DTSTART;TZID=America/Chicago:20250417T130000
DTEND;TZID=America/Chicago:20250418T210000
DTSTAMP:20260424T112640
CREATED:20250408T174735Z
LAST-MODIFIED:20250408T174735Z
UID:10000134-1744894800-1745010000@www.ksrncertifications.com
SUMMARY:Initial PALS Class April 17 & 18th at Midwest Surgery Center Eagan
DESCRIPTION:PALS is a comprehensive course that is focused on evaluating the infant or child by using the systematic approach so the participant can rapidly identify the problems and perform appropriate interventions on an acutely ill child or infant. It is designed for healthcare providers who may be involved with and participate in the management of patients in these types of situations. Each section will have a video component as well as group discussions\, hands-on practice and skills check-off to assess what you have learned. \nThis course includes: \n\nSystems of care\, pediatric BLS review & skill checks\nSystematic approach to assessment\nRespiratory emergency management\nShock emergency management\nCardiac emergencies\nPost-cardiac arrest care
URL:https://www.ksrncertifications.com/event/initial-pals-class-april-17-18th-at-midwest-surgery-center-eagan/
LOCATION:Midwest Surgery Center Eagan\, 2975 Holiday Ct Suite #100\, Eagan\, MN\, 55121\, United States
ATTACH;FMTTYPE=image/png:https://www.ksrncertifications.com/wp-content/uploads/2024/07/AHAPALS.png
ORGANIZER;CN="Kerri Rander":MAILTO:kerri@ksrncertifications.com
END:VEVENT
BEGIN:VEVENT
DTSTART;TZID=America/Chicago:20250423T110000
DTEND;TZID=America/Chicago:20250423T190000
DTSTAMP:20260424T112640
CREATED:20250203T225802Z
LAST-MODIFIED:20250326T145846Z
UID:10000114-1745406000-1745434800@www.ksrncertifications.com
SUMMARY:PALS Renewal Class April 23rd at 11348 Eagle View Terrace\, Woodbury
DESCRIPTION:PALS is a comprehensive course that is focused on evaluating the infant or child by using\nthe systematic approach so the participant can rapidly identify the problems and perform\nappropriate interventions on an acutely ill child or infant. It is designed for healthcare\nproviders who may be involved &amp; participate in the management of patients in these types of\nsituations. \nNo Show Policy: 24 hour notification is required for non-attendance. Failure to let us know if you will not be attending will incur a $30 no-show fee to your surgery center.
URL:https://www.ksrncertifications.com/event/pals-renewal-class-april-23rd-at-11348-eagle-view-terrace-woodbury/
LOCATION:KSRN Home
ATTACH;FMTTYPE=image/png:https://www.ksrncertifications.com/wp-content/uploads/2024/07/AHAPALS.png
ORGANIZER;CN="Kerri Rander":MAILTO:kerri@ksrncertifications.com
END:VEVENT
BEGIN:VEVENT
DTSTART;TZID=America/Chicago:20250429T110000
DTEND;TZID=America/Chicago:20250429T130000
DTSTAMP:20260424T112640
CREATED:20250407T213633Z
LAST-MODIFIED:20250407T213633Z
UID:10000133-1745924400-1745931600@www.ksrncertifications.com
SUMMARY:Initial BLS Class April 29th at Allina Health Surgery Center Brooklyn Park
DESCRIPTION:BLS is a comprehensive course that focuses on teaching participants the fundamental life-saving skills to help people experiencing cardiac arrest\, respiratory arrest or an airway obstruction. After completing this course\, participants will have the knowledge and feel confident in their abilities to perform lifesaving skills. \nThis course includes: \n\nThe AHA Chain of Survival\nHigh-quality CPR for adults\, children\, and infants\nImportant early use of an AED\nEffective ventilations using a barrier device\nImportance of teams in multi-rescuer resuscitation and performance as an effective team member during multi-rescuer CPR\nRelief of foreign-body airway obstruction (choking) for adults\, children\, and infants
URL:https://www.ksrncertifications.com/event/initial-bls-class-april-29th-at-allina-health-surgery-center-brooklyn-park/
LOCATION:Allina Health Surgery Center Brooklyn Park\, 6001 96th Lane N Suite 200\, Brooklyn Park\, MN\, 55445\, United States
ORGANIZER;CN="Kerri Rander":MAILTO:kerri@ksrncertifications.com
END:VEVENT
END:VCALENDAR