BEGIN:VCALENDAR
VERSION:2.0
PRODID:-//KSRN Certifications, LLC - ECPv6.15.17//NONSGML v1.0//EN
CALSCALE:GREGORIAN
METHOD:PUBLISH
X-WR-CALNAME:KSRN Certifications, LLC
X-ORIGINAL-URL:https://www.ksrncertifications.com
X-WR-CALDESC:Events for KSRN Certifications, LLC
REFRESH-INTERVAL;VALUE=DURATION:PT1H
X-Robots-Tag:noindex
X-PUBLISHED-TTL:PT1H
BEGIN:VTIMEZONE
TZID:America/Chicago
BEGIN:DAYLIGHT
TZOFFSETFROM:-0600
TZOFFSETTO:-0500
TZNAME:CDT
DTSTART:20240310T080000
END:DAYLIGHT
BEGIN:STANDARD
TZOFFSETFROM:-0500
TZOFFSETTO:-0600
TZNAME:CST
DTSTART:20241103T070000
END:STANDARD
BEGIN:DAYLIGHT
TZOFFSETFROM:-0600
TZOFFSETTO:-0500
TZNAME:CDT
DTSTART:20250309T080000
END:DAYLIGHT
BEGIN:STANDARD
TZOFFSETFROM:-0500
TZOFFSETTO:-0600
TZNAME:CST
DTSTART:20251102T070000
END:STANDARD
BEGIN:DAYLIGHT
TZOFFSETFROM:-0600
TZOFFSETTO:-0500
TZNAME:CDT
DTSTART:20260308T080000
END:DAYLIGHT
BEGIN:STANDARD
TZOFFSETFROM:-0500
TZOFFSETTO:-0600
TZNAME:CST
DTSTART:20261101T070000
END:STANDARD
END:VTIMEZONE
BEGIN:VEVENT
DTSTART;TZID=America/Chicago:20251103T080000
DTEND;TZID=America/Chicago:20251103T100000
DTSTAMP:20260424T094947
CREATED:20241130T154502Z
LAST-MODIFIED:20250326T144925Z
UID:10000099-1762156800-1762164000@www.ksrncertifications.com
SUMMARY:BLS Renewal Class November 3rd at Surgical Specialty Center
DESCRIPTION:BLS is a comprehensive course that focuses on teaching participants the fundamental life- saving skills to help people experiencing cardiac arrest\, respiratory arrest or an airway obstruction. After completing this course\, participants will have the knowledge and feel confident in their abilities to perform lifesaving skills. \nNo Show Policy: 24 hour notification is required for non-attendance. Failure to let us know if you will not be attending will incur a $30 no-show fee to your surgery center.
URL:https://www.ksrncertifications.com/event/bls-renewal-class-november-3rd-at-surgical-specialty-center/
LOCATION:Surgical Specialty Center of Minnesota\, 6099 Wayzata Blvd Suite 300\, St. Louis Park\, 55416\, United States
ORGANIZER;CN="Kerri Rander":MAILTO:kerri@ksrncertifications.com
END:VEVENT
BEGIN:VEVENT
DTSTART;TZID=America/Chicago:20251103T100000
DTEND;TZID=America/Chicago:20251103T163000
DTSTAMP:20260424T094947
CREATED:20241130T154800Z
LAST-MODIFIED:20250326T144805Z
UID:10000100-1762164000-1762187400@www.ksrncertifications.com
SUMMARY:ACLS Renewal Class November 3rd at Surgical Specialty Center
DESCRIPTION:ACLS is a comprehensive course that builds on the foundation of lifesaving BLS skills. ACLS is focused on identifying someone who is in cardiopulmonary arrest or experiencing other cardiovascular emergencies. It is designed for healthcare providers who may be involved and participate in the management of patients in these types of situations. \nNo Show Policy: 24 hour notification is required for non-attendance. Failure to let us know if you will not be attending will incur a $30 no-show fee to your surgery center.
URL:https://www.ksrncertifications.com/event/acls-renewal-class-november-3rd-at-surgical-specialty-center/
LOCATION:Surgical Specialty Center of Minnesota\, 6099 Wayzata Blvd Suite 300\, St. Louis Park\, 55416\, United States
ORGANIZER;CN="Kerri Rander":MAILTO:kerri@ksrncertifications.com
END:VEVENT
BEGIN:VEVENT
DTSTART;TZID=America/Chicago:20251104T080000
DTEND;TZID=America/Chicago:20251104T163000
DTSTAMP:20260424T094947
CREATED:20241130T155323Z
LAST-MODIFIED:20250326T144705Z
UID:10000101-1762243200-1762273800@www.ksrncertifications.com
SUMMARY:PALS Renewal Class November 4th at Surgical Specialty Center
DESCRIPTION:PALS is a comprehensive course that is focused on evaluating the infant or child by using\nthe systematic approach so the participant can rapidly identify the problems and perform\nappropriate interventions on an acutely ill child or infant. It is designed for healthcare\nproviders who may be involved &amp; participate in the management of patients in these types of\nsituations. \nNo Show Policy: 24 hour notification is required for non-attendance. Failure to let us know if you will not be attending will incur a $30 no-show fee to your surgery center.
URL:https://www.ksrncertifications.com/event/pals-renewal-class-november-3rd-at-surgical-specialty-center/
LOCATION:Surgical Specialty Center of Minnesota\, 6099 Wayzata Blvd Suite 300\, St. Louis Park\, 55416\, United States
ATTACH;FMTTYPE=image/png:https://www.ksrncertifications.com/wp-content/uploads/2024/07/AHAPALS.png
ORGANIZER;CN="Kerri Rander":MAILTO:kerri@ksrncertifications.com
END:VEVENT
BEGIN:VEVENT
DTSTART;TZID=America/Chicago:20251105T103000
DTEND;TZID=America/Chicago:20251105T163000
DTSTAMP:20260424T094947
CREATED:20250424T184055Z
LAST-MODIFIED:20250424T184055Z
UID:10000137-1762338600-1762360200@www.ksrncertifications.com
SUMMARY:PALS Renewal Class November 5th at TCO Crosstown Surgery Center
DESCRIPTION:PALS is a comprehensive course that is focused on evaluating the infant or child by using the systematic approach so the participant can rapidly identify the problems and perform appropriate interventions on an acutely ill child or infant. It is designed for healthcare providers who may be involved with and participate in the management of patients in these types of situations. Each section will have a video component as well as group discussions\, hands-on practice and skills check-off to assess what you have learned. \nThis course includes: \n\nSystems of care\, pediatric BLS review & skill checks\nSystematic approach to assessment\nRespiratory emergency management\nShock emergency management\nCardiac emergencies\nPost-cardiac arrest care
URL:https://www.ksrncertifications.com/event/pals-renewal-class-november-5th-at-tco-crosstown-surgery-center/
LOCATION:TCO Crosstown Surgery Center\, 4010 W 65th St\, Edina\, MN\, 55435\, United States
ATTACH;FMTTYPE=image/png:https://www.ksrncertifications.com/wp-content/uploads/2024/07/AHAPALS.png
ORGANIZER;CN="Kerri Rander":MAILTO:kerri@ksrncertifications.com
END:VEVENT
BEGIN:VEVENT
DTSTART;TZID=America/Chicago:20251111T080000
DTEND;TZID=America/Chicago:20251111T170000
DTSTAMP:20260424T094947
CREATED:20250805T193708Z
LAST-MODIFIED:20250826T212226Z
UID:10000157-1762848000-1762880400@www.ksrncertifications.com
SUMMARY:BLS/ACLS Renewal Class November 11th at Valley Surgery Center
DESCRIPTION:BLS is a comprehensive course that focuses on teaching participants the fundamental life-saving skills to help people experiencing cardiac arrest\, respiratory arrest or an airway obstruction. After completing this course\, participants will have the knowledge and feel confident in their abilities to perform lifesaving skills. \nThis course includes: \n\nThe AHA Chain of Survival\nHigh-quality CPR for adults\, children\, and infants\nImportant early use of an AED\nEffective ventilations using a barrier device\nImportance of teams in multi-rescuer resuscitation and performance as an effective team member during multi-rescuer CPR\nRelief of foreign-body airway obstruction (choking) for adults\, children\, and infants\n\nACLS is a comprehensive course that builds on the foundation of lifesaving BLS skills. ACLS is focused on identifying someone who is in cardiopulmonary arrest or experiencing other cardiovascular emergencies. It is designed for healthcare providers who may be involved with and participate in the management of patients in these types of situations. \nThis course includes: \n\nSystems of care & review of BLS\nSystematic approach\nManagement of ACS and strokes\nRecognition and early management of respiratory and cardiac arrest\nRecognition and early management of peri-arrest conditions\nCardiac Algorithms\nCardiac Arrest: Special Situations\nHigh-Performance Team Roles & Dynamics\n\nParticipants who have never taken ACLS sho
URL:https://www.ksrncertifications.com/event/bls-acls-renewal-class-at-valley-surgery-center/
ATTACH;FMTTYPE=image/png:https://www.ksrncertifications.com/wp-content/uploads/2024/07/ACLS-BLS.png
ORGANIZER;CN="Kerri Rander":MAILTO:kerri@ksrncertifications.com
END:VEVENT
BEGIN:VEVENT
DTSTART;TZID=America/Chicago:20251112T110000
DTEND;TZID=America/Chicago:20251112T130000
DTSTAMP:20260424T094947
CREATED:20250424T184842Z
LAST-MODIFIED:20251104T231830Z
UID:10000139-1762945200-1762952400@www.ksrncertifications.com
SUMMARY:BLS Renewal Class November 12th at Stonemill Farms Community Residents' Club
DESCRIPTION:BLS is a comprehensive course that focuses on teaching participants the fundamental life-saving skills to help people experiencing cardiac arrest\, respiratory arrest or an airway obstruction. After completing this course\, participants will have the knowledge and feel confident in their abilities to perform lifesaving skills. \nThis course includes: \n\nThe AHA Chain of Survival\nHigh-quality CPR for adults\, children\, and infants\nImportant early use of an AED\nEffective ventilations using a barrier device\nImportance of teams in multi-rescuer resuscitation and performance as an effective team member during multi-rescuer CPR\nRelief of foreign-body airway obstruction (choking) for adults\, children\, and infants
URL:https://www.ksrncertifications.com/event/bls-renewal-class-november-12th-at-stonemill-farms-community-residents-club/
LOCATION:Stonemill Farms Community Residents’ Club\, 11385 Harness Road\, Woodbury\, MN\, 55129\, United States
ATTACH;FMTTYPE=image/png:https://www.ksrncertifications.com/wp-content/uploads/2025/10/blsNew.png
ORGANIZER;CN="Kerri Rander":MAILTO:kerri@ksrncertifications.com
END:VEVENT
BEGIN:VEVENT
DTSTART;TZID=America/Chicago:20251112T130000
DTEND;TZID=America/Chicago:20251112T190000
DTSTAMP:20260424T094947
CREATED:20250424T191149Z
LAST-MODIFIED:20251104T231945Z
UID:10000140-1762952400-1762974000@www.ksrncertifications.com
SUMMARY:ACLS Renewal Class November 12th at Stonemill Farms Community Residents' Club
DESCRIPTION:ACLS is a comprehensive course that builds on the foundation of lifesaving BLS skills. ACLS is focused on identifying someone who is in cardiopulmonary arrest or experiencing other cardiovascular emergencies. It is designed for healthcare providers who may be involved with and participate in the management of patients in these types of situations. \nThis course includes: \n\nSystems of care & review of BLS\nSystematic approach\nManagement of ACS and strokes\nRecognition and early management of respiratory and cardiac arrest\nRecognition and early management of peri-arrest conditions\nCardiac Algorithms\nCardiac Arrest: Special Situations\nHigh-Performance Team Roles & Dynamics
URL:https://www.ksrncertifications.com/event/acls-renewal-class-november-12th-at-stonemill-farms-community-residents-club/
LOCATION:Stonemill Farms Community Residents’ Club\, 11385 Harness Road\, Woodbury\, MN\, 55129\, United States
ATTACH;FMTTYPE=image/png:https://www.ksrncertifications.com/wp-content/uploads/2025/10/aclsNew.png
ORGANIZER;CN="Kerri Rander":MAILTO:kerri@ksrncertifications.com
END:VEVENT
BEGIN:VEVENT
DTSTART;TZID=America/Chicago:20251117T080000
DTEND;TZID=America/Chicago:20251117T100000
DTSTAMP:20260424T094947
CREATED:20250917T171011Z
LAST-MODIFIED:20251104T232205Z
UID:10000159-1763366400-1763373600@www.ksrncertifications.com
SUMMARY:BLS Renewal Class November 17th at Surgical Specialty Center of Minnesota
DESCRIPTION:BLS is a comprehensive course that focuses on teaching participants the fundamental life-saving skills to help people experiencing cardiac arrest\, respiratory arrest or an airway obstruction. After completing this course\, participants will have the knowledge and feel confident in their abilities to perform lifesaving skills. \nThis course includes: \n\nThe AHA Chain of Survival\nHigh-quality CPR for adults\, children\, and infants\nImportant early use of an AED\nEffective ventilations using a barrier device\nImportance of teams in multi-rescuer resuscitation and performance as an effective team member during multi-rescuer CPR\nRelief of foreign-body airway obstruction (choking) for adults\, children\, and infants
URL:https://www.ksrncertifications.com/event/bls-renewal-class-november-17th-at-surgical-specialty-center-of-minnesota/
LOCATION:Surgical Specialty Center of Minnesota\, 6099 Wayzata Blvd Suite 300\, St. Louis Park\, 55416\, United States
ATTACH;FMTTYPE=image/png:https://www.ksrncertifications.com/wp-content/uploads/2025/10/blsNew.png
ORGANIZER;CN="Kerri Rander":MAILTO:kerri@ksrncertifications.com
END:VEVENT
END:VCALENDAR