BEGIN:VCALENDAR
VERSION:2.0
PRODID:-//KSRN Certifications, LLC - ECPv6.15.17//NONSGML v1.0//EN
CALSCALE:GREGORIAN
METHOD:PUBLISH
X-WR-CALNAME:KSRN Certifications, LLC
X-ORIGINAL-URL:https://www.ksrncertifications.com
X-WR-CALDESC:Events for KSRN Certifications, LLC
REFRESH-INTERVAL;VALUE=DURATION:PT1H
X-Robots-Tag:noindex
X-PUBLISHED-TTL:PT1H
BEGIN:VTIMEZONE
TZID:America/Chicago
BEGIN:DAYLIGHT
TZOFFSETFROM:-0600
TZOFFSETTO:-0500
TZNAME:CDT
DTSTART:20250309T080000
END:DAYLIGHT
BEGIN:STANDARD
TZOFFSETFROM:-0500
TZOFFSETTO:-0600
TZNAME:CST
DTSTART:20251102T070000
END:STANDARD
BEGIN:DAYLIGHT
TZOFFSETFROM:-0600
TZOFFSETTO:-0500
TZNAME:CDT
DTSTART:20260308T080000
END:DAYLIGHT
BEGIN:STANDARD
TZOFFSETFROM:-0500
TZOFFSETTO:-0600
TZNAME:CST
DTSTART:20261101T070000
END:STANDARD
BEGIN:DAYLIGHT
TZOFFSETFROM:-0600
TZOFFSETTO:-0500
TZNAME:CDT
DTSTART:20270314T080000
END:DAYLIGHT
BEGIN:STANDARD
TZOFFSETFROM:-0500
TZOFFSETTO:-0600
TZNAME:CST
DTSTART:20271107T070000
END:STANDARD
END:VTIMEZONE
BEGIN:VEVENT
DTSTART;TZID=America/Chicago:20260105T080000
DTEND;TZID=America/Chicago:20260105T100000
DTSTAMP:20260424T064339
CREATED:20251104T214824Z
LAST-MODIFIED:20251104T214824Z
UID:10000196-1767600000-1767607200@www.ksrncertifications.com
SUMMARY:BLS Renewal Class January 5th at Surgical Specialty Center of Minnesota
DESCRIPTION:BLS is a comprehensive course that focuses on teaching participants the fundamental life-saving skills to help people experiencing cardiac arrest\, respiratory arrest or an airway obstruction. After completing this course\, participants will have the knowledge and feel confident in their abilities to perform lifesaving skills. \nThis course includes: \n\nThe AHA Chain of Survival\nHigh-quality CPR for adults\, children\, and infants\nImportant early use of an AED\nEffective ventilations using a barrier device\nImportance of teams in multi-rescuer resuscitation and performance as an effective team member during multi-rescuer CPR\nRelief of foreign-body airway obstruction (choking) for adults\, children\, and infants\n\nParticipants who have never taken BLS should take the initial class. During the initial class\, AHA videos will be shown and each section will require the participants to practice hands-on skills. The initial course is more comprehensive\, providing a more in-depth exploration of material\, techniques and practices\, making the approach and duration longer than the renewal classes. \nDuring the renewal classes participants will review the material in a PowerPoint presentation\, AHA videos\, and practice their cognitive and psychomotor skills through small-group case scenarios.
URL:https://www.ksrncertifications.com/event/bls-renewal-class-january-5th-at-surgical-specialty-center-of-minnesota/
LOCATION:Surgical Specialty Center of Minnesota\, 6099 Wayzata Blvd Suite 300\, St. Louis Park\, 55416\, United States
ATTACH;FMTTYPE=image/png:https://www.ksrncertifications.com/wp-content/uploads/2025/10/blsNew.png
ORGANIZER;CN="Kerri Rander":MAILTO:kerri@ksrncertifications.com
END:VEVENT
BEGIN:VEVENT
DTSTART;TZID=America/Chicago:20260105T100000
DTEND;TZID=America/Chicago:20260105T160000
DTSTAMP:20260424T064339
CREATED:20251104T221723Z
LAST-MODIFIED:20251104T221844Z
UID:10000203-1767607200-1767628800@www.ksrncertifications.com
SUMMARY:ACLS Renewal Class January 5th at Surgical Specialty Center of Minnesota
DESCRIPTION:ACLS is a comprehensive course that builds on the foundation of lifesaving BLS skills. ACLS is focused on identifying someone who is in cardiopulmonary arrest or experiencing other cardiovascular emergencies. It is designed for healthcare providers who may be involved with and participate in the management of patients in these types of situations. \nThis course includes: \n\nSystems of care & review of BLS\nSystematic approach\nManagement of ACS and strokes\nRecognition and early management of respiratory and cardiac arrest\nRecognition and early management of peri-arrest conditions\nCardiac Algorithms\nCardiac Arrest: Special Situations\nHigh-Performance Team Roles & Dynamics\n\nParticipants who have never taken ACLS should take the initial class. During the initial class AHA videos will be shown & after each section the instructor will encourage the participants to have open discussions so they can further their knowledge. They will also have the opportunity for more simulation to learn and practice their cognitive and psychomotor skills. The initial course is more comprehensive\, providing a more in-depth exploration of material\, techniques and practices\, making the approach and duration longer than the renewal classes. \nDuring the renewal classes participants will review the material in a PowerPoint presentation\, AHA videos\, and practice their cognitive and psychomotor skills through small-group case scenarios.
URL:https://www.ksrncertifications.com/event/acls-renewal-class-january-5th-at-surgical-specialty-center-of-minnesota/
LOCATION:Surgical Specialty Center of Minnesota\, 6099 Wayzata Blvd Suite 300\, St. Louis Park\, 55416\, United States
ATTACH;FMTTYPE=image/png:https://www.ksrncertifications.com/wp-content/uploads/2025/10/aclsNew.png
ORGANIZER;CN="Kerri Rander":MAILTO:kerri@ksrncertifications.com
END:VEVENT
BEGIN:VEVENT
DTSTART;TZID=America/Chicago:20260112T080000
DTEND;TZID=America/Chicago:20260112T100000
DTSTAMP:20260424T064339
CREATED:20251029T134414Z
LAST-MODIFIED:20251104T225032Z
UID:10000161-1768204800-1768212000@www.ksrncertifications.com
SUMMARY:BLS Renewal Class January 12th at TCO Crosstown Surgery Center
DESCRIPTION:BLS is a comprehensive course that focuses on teaching participants the fundamental life-saving skills to help people experiencing cardiac arrest\, respiratory arrest or an airway obstruction. After completing this course\, participants will have the knowledge and feel confident in their abilities to perform lifesaving skills. \nThis course includes: \n\nThe AHA Chain of Survival\nHigh-quality CPR for adults\, children\, and infants\nImportant early use of an AED\nEffective ventilations using a barrier device\nImportance of teams in multi-rescuer resuscitation and performance as an effective team member during multi-rescuer CPR\nRelief of foreign-body airway obstruction (choking) for adults\, children\, and infants\n\nParticipants who have never taken BLS should take the initial class. During the initial class\, AHA videos will be shown and each section will require the participants to practice hands-on skills. The initial course is more comprehensive\, providing a more in-depth exploration of material\, techniques and practices\, making the approach and duration longer than the renewal classes. \nDuring the renewal classes participants will review the material in a PowerPoint presentation\, AHA videos\, and practice their cognitive and psychomotor skills through small-group case scenarios.
URL:https://www.ksrncertifications.com/event/bls-renewal-class-january-12th-at-tco-crosstown-surgery-center/
LOCATION:TCO Crosstown Surgery Center\, 4010 W 65th St\, Edina\, MN\, 55435\, United States
ATTACH;FMTTYPE=image/png:https://www.ksrncertifications.com/wp-content/uploads/2025/10/blsNew.png
ORGANIZER;CN="Kerri Rander":MAILTO:kerri@ksrncertifications.com
END:VEVENT
BEGIN:VEVENT
DTSTART;TZID=America/Chicago:20260112T100000
DTEND;TZID=America/Chicago:20260112T160000
DTSTAMP:20260424T064339
CREATED:20251029T170729Z
LAST-MODIFIED:20251216T020330Z
UID:10000173-1768212000-1768233600@www.ksrncertifications.com
SUMMARY:PALS Renewal Class January 12th at TCO Crosstown Surgery Center
DESCRIPTION:PALS is a comprehensive course that is focused on evaluating the infant or child by using the systematic approach so the participant can rapidly identify the problems and perform appropriate interventions on an acutely ill child or infant. It is designed for healthcare providers who may be involved with and participate in the management of patients in these types of situations. Each section will have a video component as well as group discussions\, hands-on practice and skills check-off to assess what you have learned. \nThis course includes: \n\nSystems of care\, pediatric BLS review & skill checks\nSystematic approach to assessment\nRespiratory emergency management\nShock emergency management\nCardiac emergencies\nPost-cardiac arrest care
URL:https://www.ksrncertifications.com/event/pals-renewal-class-january-12th-at-tco-crosstown-surgery-center/
LOCATION:TCO Crosstown Surgery Center\, 4010 W 65th St\, Edina\, MN\, 55435\, United States
ATTACH;FMTTYPE=image/png:https://www.ksrncertifications.com/wp-content/uploads/2025/10/palsNew.png
ORGANIZER;CN="Kerri Rander":MAILTO:kerri@ksrncertifications.com
END:VEVENT
BEGIN:VEVENT
DTSTART;TZID=America/Chicago:20260122T150000
DTEND;TZID=America/Chicago:20260122T170000
DTSTAMP:20260424T064339
CREATED:20251029T180420Z
LAST-MODIFIED:20251105T233240Z
UID:10000190-1769094000-1769101200@www.ksrncertifications.com
SUMMARY:BLS Renewal Class January 22nd at Eagan Specialty Center
DESCRIPTION:BLS is a comprehensive course that focuses on teaching participants the fundamental life-saving skills to help people experiencing cardiac arrest\, respiratory arrest or an airway obstruction. After completing this course\, participants will have the knowledge and feel confident in their abilities to perform lifesaving skills. \nThis course includes: \n\nThe AHA Chain of Survival\nHigh-quality CPR for adults\, children\, and infants\nImportant early use of an AED\nEffective ventilations using a barrier device\nImportance of teams in multi-rescuer resuscitation and performance as an effective team member during multi-rescuer CPR\nRelief of foreign-body airway obstruction (choking) for adults\, children\, and infants\n\nParticipants who have never taken BLS should take the initial class. During the initial class\, AHA videos will be shown and each section will require the participants to practice hands-on skills. The initial course is more comprehensive\, providing a more in-depth exploration of material\, techniques and practices\, making the approach and duration longer than the renewal classes. \nDuring the renewal classes participants will review the material in a PowerPoint presentation\, AHA videos\, and practice their cognitive and psychomotor skills through small-group case scenarios.
URL:https://www.ksrncertifications.com/event/bls-renewal-class-january-22nd-at-eagan-specialty-center/
LOCATION:Eagan Specialty Center\, 2975 Holiday Ct Suite #100\, Eagan\, MN\, 55121\, United States
ATTACH;FMTTYPE=image/png:https://www.ksrncertifications.com/wp-content/uploads/2025/10/blsNew.png
ORGANIZER;CN="Kerri Rander":MAILTO:kerri@ksrncertifications.com
END:VEVENT
BEGIN:VEVENT
DTSTART;TZID=America/Chicago:20260122T170000
DTEND;TZID=America/Chicago:20260122T230000
DTSTAMP:20260424T064339
CREATED:20251029T180719Z
LAST-MODIFIED:20251105T005848Z
UID:10000191-1769101200-1769122800@www.ksrncertifications.com
SUMMARY:ACLS Renewal Class January 22nd at Eagan Specialty Center
DESCRIPTION:ACLS is a comprehensive course that builds on the foundation of lifesaving BLS skills. ACLS is focused on identifying someone who is in cardiopulmonary arrest or experiencing other cardiovascular emergencies. It is designed for healthcare providers who may be involved with and participate in the management of patients in these types of situations. \nThis course includes: \n\nSystems of care & review of BLS\nSystematic approach\nManagement of ACS and strokes\nRecognition and early management of respiratory and cardiac arrest\nRecognition and early management of peri-arrest conditions\nCardiac Algorithms\nCardiac Arrest: Special Situations\nHigh-Performance Team Roles & Dynamics\n\nParticipants who have never taken ACLS should take the initial class. During the initial class AHA videos will be shown & after each section the instructor will encourage the participants to have open discussions so they can further their knowledge. They will also have the opportunity for more simulation to learn and practice their cognitive and psychomotor skills. The initial course is more comprehensive\, providing a more in-depth exploration of material\, techniques and practices\, making the approach and duration longer than the renewal classes. \nDuring the renewal classes participants will review the material in a PowerPoint presentation\, AHA videos\, and practice their cognitive and psychomotor skills through small-group case scenarios.
URL:https://www.ksrncertifications.com/event/acls-renewal-class-january-22nd-at-eagan-specialty-center/
LOCATION:Eagan Specialty Center\, 2975 Holiday Ct Suite #100\, Eagan\, MN\, 55121\, United States
ATTACH;FMTTYPE=image/png:https://www.ksrncertifications.com/wp-content/uploads/2025/10/aclsNew.png
ORGANIZER;CN="Kerri Rander":MAILTO:kerri@ksrncertifications.com
END:VEVENT
BEGIN:VEVENT
DTSTART;TZID=America/Chicago:20260126T080000
DTEND;TZID=America/Chicago:20260126T160000
DTSTAMP:20260424T064339
CREATED:20251104T222906Z
LAST-MODIFIED:20251121T160114Z
UID:10000204-1769414400-1769443200@www.ksrncertifications.com
SUMMARY:PALS Renewal Class January 26th at Surgical Specialty Center of Minnesota
DESCRIPTION:PALS is a comprehensive course that is focused on evaluating the infant or child by using the systematic approach so the participant can rapidly identify the problems and perform appropriate interventions on an acutely ill child or infant. It is designed for healthcare providers who may be involved with and participate in the management of patients in these types of situations. Each section will have a video component as well as group discussions\, hands-on practice and skills check-off to assess what you have learned. \nThis course includes: \n\nSystems of care\, pediatric BLS review & skill checks\nSystematic approach to assessment\nRespiratory emergency management\nShock emergency management\nCardiac emergencies\nPost-cardiac arrest care\n\nDuring the renewal classes participants will review the material in a PowerPoint presentation\, AHA videos\, and practice their cognitive and psychomotor skills through small-group case scenarios.
URL:https://www.ksrncertifications.com/event/pals-renewal-class-january-19th-at-surgical-specialty-center-of-minnesota/
LOCATION:Surgical Specialty Center of Minnesota\, 6099 Wayzata Blvd Suite 300\, St. Louis Park\, 55416\, United States
ATTACH;FMTTYPE=image/png:https://www.ksrncertifications.com/wp-content/uploads/2025/10/palsNew.png
ORGANIZER;CN="Kerri Rander":MAILTO:kerri@ksrncertifications.com
END:VEVENT
BEGIN:VEVENT
DTSTART;TZID=America/Chicago:20260128T080000
DTEND;TZID=America/Chicago:20260128T100000
DTSTAMP:20260424T064339
CREATED:20251029T175805Z
LAST-MODIFIED:20251105T005448Z
UID:10000189-1769587200-1769594400@www.ksrncertifications.com
SUMMARY:BLS Renewal Class January 28th at West Health Surgery Center
DESCRIPTION:BLS is a comprehensive course that focuses on teaching participants the fundamental life-saving skills to help people experiencing cardiac arrest\, respiratory arrest or an airway obstruction. After completing this course\, participants will have the knowledge and feel confident in their abilities to perform lifesaving skills. \nThis course includes: \n\nThe AHA Chain of Survival\nHigh-quality CPR for adults\, children\, and infants\nImportant early use of an AED\nEffective ventilations using a barrier device\nImportance of teams in multi-rescuer resuscitation and performance as an effective team member during multi-rescuer CPR\nRelief of foreign-body airway obstruction (choking) for adults\, children\, and infants\n\nParticipants who have never taken BLS should take the initial class. During the initial class\, AHA videos will be shown and each section will require the participants to practice hands-on skills. The initial course is more comprehensive\, providing a more in-depth exploration of material\, techniques and practices\, making the approach and duration longer than the renewal classes. \nDuring the renewal classes participants will review the material in a PowerPoint presentation\, AHA videos\, and practice their cognitive and psychomotor skills through small-group case scenarios.
URL:https://www.ksrncertifications.com/event/bls-renewal-class-january-28th-at-west-health-surgery-center-2/
LOCATION:West Health Surgery Center\, 2855 Campus Drive\, Plymouth\, 55441\, United States
ATTACH;FMTTYPE=image/png:https://www.ksrncertifications.com/wp-content/uploads/2025/10/blsNew.png
ORGANIZER;CN="Kerri Rander":MAILTO:kerri@ksrncertifications.com
END:VEVENT
BEGIN:VEVENT
DTSTART;TZID=America/Chicago:20260128T100000
DTEND;TZID=America/Chicago:20260128T160000
DTSTAMP:20260424T064339
CREATED:20251029T174951Z
LAST-MODIFIED:20251216T020429Z
UID:10000186-1769594400-1769616000@www.ksrncertifications.com
SUMMARY:ACLS Renewal Class January 28th at West Health Surgery Center
DESCRIPTION:ACLS is a comprehensive course that builds on the foundation of lifesaving BLS skills. ACLS is focused on identifying someone who is in cardiopulmonary arrest or experiencing other cardiovascular emergencies. It is designed for healthcare providers who may be involved with and participate in the management of patients in these types of situations. \nThis course includes: \n\nSystems of care & review of BLS\nSystematic approach\nManagement of ACS and strokes\nRecognition and early management of respiratory and cardiac arrest\nRecognition and early management of peri-arrest conditions\nCardiac Algorithms\nCardiac Arrest: Special Situations\nHigh-Performance Team Roles & Dynamics\n\nParticipants who have never taken ACLS should take the initial class. During the initial class AHA videos will be shown & after each section the instructor will encourage the participants to have open discussions so they can further their knowledge. They will also have the opportunity for more simulation to learn and practice their cognitive and psychomotor skills. The initial course is more comprehensive\, providing a more in-depth exploration of material\, techniques and practices\, making the approach and duration longer than the renewal classes. \nDuring the renewal classes participants will review the material in a PowerPoint presentation\, AHA videos\, and practice their cognitive and psychomotor skills through small-group case scenarios.
URL:https://www.ksrncertifications.com/event/acls-renewal-class-january-28th-at-west-health-surgery-center/
LOCATION:West Health Surgery Center\, 2855 Campus Drive\, Plymouth\, 55441\, United States
ATTACH;FMTTYPE=image/png:https://www.ksrncertifications.com/wp-content/uploads/2025/10/aclsNew.png
ORGANIZER;CN="Kerri Rander":MAILTO:kerri@ksrncertifications.com
END:VEVENT
BEGIN:VEVENT
DTSTART;TZID=America/Chicago:20260129T150000
DTEND;TZID=America/Chicago:20260129T230000
DTSTAMP:20260424T064339
CREATED:20251104T224039Z
LAST-MODIFIED:20251104T224039Z
UID:10000208-1769698800-1769727600@www.ksrncertifications.com
SUMMARY:PALS Renewal Class January 29th at Eagan Specialty Center
DESCRIPTION:PALS is a comprehensive course that is focused on evaluating the infant or child by using the systematic approach so the participant can rapidly identify the problems and perform appropriate interventions on an acutely ill child or infant. It is designed for healthcare providers who may be involved with and participate in the management of patients in these types of situations. Each section will have a video component as well as group discussions\, hands-on practice and skills check-off to assess what you have learned. \nThis course includes: \n\nSystems of care\, pediatric BLS review & skill checks\nSystematic approach to assessment\nRespiratory emergency management\nShock emergency management\nCardiac emergencies\nPost-cardiac arrest care\n\nDuring the renewal classes participants will review the material in a PowerPoint presentation\, AHA videos\, and practice their cognitive and psychomotor skills through small-group case scenarios.
URL:https://www.ksrncertifications.com/event/pals-renewal-class-january-29th-at-eagan-specialty-center/
LOCATION:Eagan Specialty Center\, 2975 Holiday Ct Suite #100\, Eagan\, MN\, 55121\, United States
ATTACH;FMTTYPE=image/png:https://www.ksrncertifications.com/wp-content/uploads/2025/10/palsNew.png
ORGANIZER;CN="Kerri Rander":MAILTO:kerri@ksrncertifications.com
END:VEVENT
BEGIN:VEVENT
DTSTART;TZID=America/Chicago:20260130T110000
DTEND;TZID=America/Chicago:20260130T140000
DTSTAMP:20260424T064339
CREATED:20260116T182333Z
LAST-MODIFIED:20260116T182333Z
UID:10000211-1769770800-1769781600@www.ksrncertifications.com
SUMMARY:BLS Renewal Class January 30th at  Allina Health Surgery Center- Brooklyn Park
DESCRIPTION:BLS is a comprehensive course that focuses on teaching participants the fundamental life-saving skills to help people experiencing cardiac arrest\, respiratory arrest or an airway obstruction. After completing this course\, participants will have the knowledge and feel confident in their abilities to perform lifesaving skills. \nThis course includes: \n\nThe AHA Chain of Survival\nHigh-quality CPR for adults\, children\, and infants\nImportant early use of an AED\nEffective ventilations using a barrier device\nImportance of teams in multi-rescuer resuscitation and performance as an effective team member during multi-rescuer CPR\nRelief of foreign-body airway obstruction (choking) for adults\, children\, and infants\n\nParticipants who have never taken BLS should take the initial class. During the initial class\, AHA videos will be shown and each section will require the participants to practice hands-on skills. The initial course is more comprehensive\, providing a more in-depth exploration of material\, techniques and practices\, making the approach and duration longer than the renewal classes. \nDuring the renewal classes participants will review the material in a PowerPoint presentation\, AHA videos\, and practice their cognitive and psychomotor skills through small-group case scenarios.
URL:https://www.ksrncertifications.com/event/bls-renewal-class-january-30th-at-allina-health-surgery-center-brooklyn-park/
LOCATION:Allina Health Surgery Center Brooklyn Park\, 6001 96th Lane N Suite 200\, Brooklyn Park\, MN\, 55445\, United States
ATTACH;FMTTYPE=image/png:https://www.ksrncertifications.com/wp-content/uploads/2025/10/blsNew.png
ORGANIZER;CN="Kerri Rander":MAILTO:kerri@ksrncertifications.com
END:VEVENT
END:VCALENDAR