BEGIN:VCALENDAR
VERSION:2.0
PRODID:-//KSRN Certifications, LLC - ECPv6.15.17//NONSGML v1.0//EN
CALSCALE:GREGORIAN
METHOD:PUBLISH
X-ORIGINAL-URL:https://www.ksrncertifications.com
X-WR-CALDESC:Events for KSRN Certifications, LLC
REFRESH-INTERVAL;VALUE=DURATION:PT1H
X-Robots-Tag:noindex
X-PUBLISHED-TTL:PT1H
BEGIN:VTIMEZONE
TZID:America/Chicago
BEGIN:DAYLIGHT
TZOFFSETFROM:-0600
TZOFFSETTO:-0500
TZNAME:CDT
DTSTART:20250309T080000
END:DAYLIGHT
BEGIN:STANDARD
TZOFFSETFROM:-0500
TZOFFSETTO:-0600
TZNAME:CST
DTSTART:20251102T070000
END:STANDARD
BEGIN:DAYLIGHT
TZOFFSETFROM:-0600
TZOFFSETTO:-0500
TZNAME:CDT
DTSTART:20260308T080000
END:DAYLIGHT
BEGIN:STANDARD
TZOFFSETFROM:-0500
TZOFFSETTO:-0600
TZNAME:CST
DTSTART:20261101T070000
END:STANDARD
BEGIN:DAYLIGHT
TZOFFSETFROM:-0600
TZOFFSETTO:-0500
TZNAME:CDT
DTSTART:20270314T080000
END:DAYLIGHT
BEGIN:STANDARD
TZOFFSETFROM:-0500
TZOFFSETTO:-0600
TZNAME:CST
DTSTART:20271107T070000
END:STANDARD
END:VTIMEZONE
BEGIN:VEVENT
DTSTART;TZID=America/Chicago:20260504T080000
DTEND;TZID=America/Chicago:20260504T100000
DTSTAMP:20260424T034544
CREATED:20251029T141604Z
LAST-MODIFIED:20260224T222108Z
UID:10000165-1777881600-1777888800@www.ksrncertifications.com
SUMMARY:BLS Renewal Class May 4th at TCO Crosstown Surgery Center
DESCRIPTION:BLS is a comprehensive course that focuses on teaching participants the fundamental life-saving skills to help people experiencing cardiac arrest\, respiratory arrest or an airway obstruction. After completing this course\, participants will have the knowledge and feel confident in their abilities to perform lifesaving skills. \nThis course includes: \n\nThe AHA Chain of Survival\nHigh-quality CPR for adults\, children\, and infants\nImportant early use of an AED\nEffective ventilations using a barrier device\nImportance of teams in multi-rescuer resuscitation and performance as an effective team member during multi-rescuer CPR\nRelief of foreign-body airway obstruction (choking) for adults\, children\, and infants\n\nParticipants who have never taken BLS should take the initial class. During the initial class\, AHA videos will be shown and each section will require the participants to practice hands-on skills. The initial course is more comprehensive\, providing a more in-depth exploration of material\, techniques and practices\, making the approach and duration longer than the renewal classes. \nDuring the renewal classes participants will review the material in a PowerPoint presentation\, AHA videos\, and practice their cognitive and psychomotor skills through small-group case scenarios. \nIf a participant needs to withdrawl from class\, please notify KSRN Certifications. A $50.00 fee will be charged if a participant does not show up for class or does not notify KSRN Certifications 24 hours prior to the start of class.
URL:https://www.ksrncertifications.com/event/bls-renewal-class-may-4th-at-tco-crosstown-surgery-center/
LOCATION:TCO Crosstown Surgery Center\, 4010 W 65th St\, Edina\, MN\, 55435\, United States
ATTACH;FMTTYPE=image/png:https://www.ksrncertifications.com/wp-content/uploads/2025/10/blsNew.png
ORGANIZER;CN="Kerri Rander":MAILTO:kerri@ksrncertifications.com
END:VEVENT
BEGIN:VEVENT
DTSTART;TZID=America/Chicago:20260504T100000
DTEND;TZID=America/Chicago:20260504T160000
DTSTAMP:20260424T034544
CREATED:20251029T171240Z
LAST-MODIFIED:20260224T222311Z
UID:10000175-1777888800-1777910400@www.ksrncertifications.com
SUMMARY:PALS Renewal Class May 4th at TCO Crosstown Surgery Center
DESCRIPTION:PALS is a comprehensive course that is focused on evaluating the infant or child by using the systematic approach so the participant can rapidly identify the problems and perform appropriate interventions on an acutely ill child or infant. It is designed for healthcare providers who may be involved with and participate in the management of patients in these types of situations. Each section will have a video component as well as group discussions\, hands-on practice and skills check-off to assess what you have learned. \nThis course includes: \n\nSystems of care\, pediatric BLS review & skill checks\nSystematic approach to assessment\nRespiratory emergency management\nShock emergency management\nCardiac emergencies\nPost-cardiac arrest care\n\nIf a participant needs to withdrawl from class\, please notify KSRN Certifications. A $50.00 fee will be charged if a participant does not show up for class or does not notify KSRN Certifications 24 hours prior to the start of class.
URL:https://www.ksrncertifications.com/event/pals-renewal-class-may-4th-at-tco-crosstown-surgery-center/
LOCATION:TCO Crosstown Surgery Center\, 4010 W 65th St\, Edina\, MN\, 55435\, United States
ATTACH;FMTTYPE=image/png:https://www.ksrncertifications.com/wp-content/uploads/2025/10/palsNew.png
ORGANIZER;CN="Kerri Rander":MAILTO:kerri@ksrncertifications.com
END:VEVENT
BEGIN:VEVENT
DTSTART;TZID=America/Chicago:20260512T103000
DTEND;TZID=America/Chicago:20260512T183000
DTSTAMP:20260424T034544
CREATED:20260330T151413Z
LAST-MODIFIED:20260330T151413Z
UID:10000224-1778581800-1778610600@www.ksrncertifications.com
SUMMARY:Initial PALS  Class May 12th at Stonemill Farms Community Resident's Club
DESCRIPTION:PALS is a comprehensive course that is focused on evaluating the infant or child by using the systematic approach so the participant can rapidly identify the problems and perform appropriate interventions on an acutely ill child or infant. It is designed for healthcare providers who may be involved with and participate in the management of patients in these types of situations. Each section will have a video component as well as group discussions\, hands-on practice and skills check-off to assess what you have learned. \nThis course includes: \n\nSystems of care\, pediatric BLS review & skill checks\nSystematic approach to assessment\nRespiratory emergency management\nShock emergency management\nCardiac emergencies\nPost-cardiac arrest care\n\nIf a participant needs to withdrawl from class\, please notify KSRN Certifications. A $50.00 fee will be charged if a participant does not show up for class or does not notify KSRN Certifications 24 hours prior to the start of class.
URL:https://www.ksrncertifications.com/event/initial-pals-class-may-12th-at-stonemill-farms-community-residents-club/
LOCATION:Stonemill Farms Community Residents’ Club\, 11385 Harness Road\, Woodbury\, MN\, 55129\, United States
ATTACH;FMTTYPE=image/png:https://www.ksrncertifications.com/wp-content/uploads/2025/10/palsNew.png
ORGANIZER;CN="Kerri Rander":MAILTO:kerri@ksrncertifications.com
END:VEVENT
BEGIN:VEVENT
DTSTART;TZID=America/Chicago:20260520T080000
DTEND;TZID=America/Chicago:20260520T100000
DTSTAMP:20260424T034544
CREATED:20251029T175555Z
LAST-MODIFIED:20260224T222149Z
UID:10000188-1779264000-1779271200@www.ksrncertifications.com
SUMMARY:BLS Renewal Class May 20th at West Health Surgery Center
DESCRIPTION:BLS is a comprehensive course that focuses on teaching participants the fundamental life-saving skills to help people experiencing cardiac arrest\, respiratory arrest or an airway obstruction. After completing this course\, participants will have the knowledge and feel confident in their abilities to perform lifesaving skills. \nThis course includes: \n\nThe AHA Chain of Survival\nHigh-quality CPR for adults\, children\, and infants\nImportant early use of an AED\nEffective ventilations using a barrier device\nImportance of teams in multi-rescuer resuscitation and performance as an effective team member during multi-rescuer CPR\nRelief of foreign-body airway obstruction (choking) for adults\, children\, and infants\n\nParticipants who have never taken BLS should take the initial class. During the initial class\, AHA videos will be shown and each section will require the participants to practice hands-on skills. The initial course is more comprehensive\, providing a more in-depth exploration of material\, techniques and practices\, making the approach and duration longer than the renewal classes. \nDuring the renewal classes participants will review the material in a PowerPoint presentation\, AHA videos\, and practice their cognitive and psychomotor skills through small-group case scenarios. \nIf a participant needs to withdrawl from class\, please notify KSRN Certifications. A $50.00 fee will be charged if a participant does not show up for class or does not notify KSRN Certifications 24 hours prior to the start of class.
URL:https://www.ksrncertifications.com/event/bls-renewal-class-may-20th-at-west-health-surgery-center/
LOCATION:West Health Surgery Center\, 2855 Campus Drive\, Plymouth\, 55441\, United States
ATTACH;FMTTYPE=image/png:https://www.ksrncertifications.com/wp-content/uploads/2025/10/blsNew.png
ORGANIZER;CN="Kerri Rander":MAILTO:kerri@ksrncertifications.com
END:VEVENT
BEGIN:VEVENT
DTSTART;TZID=America/Chicago:20260520T100000
DTEND;TZID=America/Chicago:20260520T160000
DTSTAMP:20260424T034544
CREATED:20251029T175258Z
LAST-MODIFIED:20260224T222441Z
UID:10000187-1779271200-1779292800@www.ksrncertifications.com
SUMMARY:ACLS Renewal Class May 20th at West Health Surgery Center
DESCRIPTION:ACLS is a comprehensive course that builds on the foundation of lifesaving BLS skills. ACLS is focused on identifying someone who is in cardiopulmonary arrest or experiencing other cardiovascular emergencies. It is designed for healthcare providers who may be involved with and participate in the management of patients in these types of situations. \nThis course includes: \n\nSystems of care & review of BLS\nSystematic approach\nManagement of ACS and strokes\nRecognition and early management of respiratory and cardiac arrest\nRecognition and early management of peri-arrest conditions\nCardiac Algorithms\nCardiac Arrest: Special Situations\nHigh-Performance Team Roles & Dynamics\n\nParticipants who have never taken ACLS should take the initial class. During the initial class AHA videos will be shown & after each section the instructor will encourage the participants to have open discussions so they can further their knowledge. They will also have the opportunity for more simulation to learn and practice their cognitive and psychomotor skills. The initial course is more comprehensive\, providing a more in-depth exploration of material\, techniques and practices\, making the approach and duration longer than the renewal classes. \nDuring the renewal classes participants will review the material in a PowerPoint presentation\, AHA videos\, and practice their cognitive and psychomotor skills through small-group case scenarios. \nIf a participant needs to withdrawl from class\, please notify KSRN Certifications. A $50.00 fee will be charged if a participant does not show up for class or does not notify KSRN Certifications 24 hours prior to the start of class.
URL:https://www.ksrncertifications.com/event/acls-renewal-class-may-20th-at-west-health-surgery-center/
LOCATION:West Health Surgery Center\, 2855 Campus Drive\, Plymouth\, 55441\, United States
ATTACH;FMTTYPE=image/png:https://www.ksrncertifications.com/wp-content/uploads/2025/10/aclsNew.png
ORGANIZER;CN="Kerri Rander":MAILTO:kerri@ksrncertifications.com
END:VEVENT
END:VCALENDAR