BEGIN:VCALENDAR
VERSION:2.0
PRODID:-//KSRN Certifications, LLC - ECPv6.15.17//NONSGML v1.0//EN
CALSCALE:GREGORIAN
METHOD:PUBLISH
X-WR-CALNAME:KSRN Certifications, LLC
X-ORIGINAL-URL:https://www.ksrncertifications.com
X-WR-CALDESC:Events for KSRN Certifications, LLC
REFRESH-INTERVAL;VALUE=DURATION:PT1H
X-Robots-Tag:noindex
X-PUBLISHED-TTL:PT1H
BEGIN:VTIMEZONE
TZID:America/Chicago
BEGIN:DAYLIGHT
TZOFFSETFROM:-0600
TZOFFSETTO:-0500
TZNAME:CDT
DTSTART:20250309T080000
END:DAYLIGHT
BEGIN:STANDARD
TZOFFSETFROM:-0500
TZOFFSETTO:-0600
TZNAME:CST
DTSTART:20251102T070000
END:STANDARD
BEGIN:DAYLIGHT
TZOFFSETFROM:-0600
TZOFFSETTO:-0500
TZNAME:CDT
DTSTART:20260308T080000
END:DAYLIGHT
BEGIN:STANDARD
TZOFFSETFROM:-0500
TZOFFSETTO:-0600
TZNAME:CST
DTSTART:20261101T070000
END:STANDARD
BEGIN:DAYLIGHT
TZOFFSETFROM:-0600
TZOFFSETTO:-0500
TZNAME:CDT
DTSTART:20270314T080000
END:DAYLIGHT
BEGIN:STANDARD
TZOFFSETFROM:-0500
TZOFFSETTO:-0600
TZNAME:CST
DTSTART:20271107T070000
END:STANDARD
END:VTIMEZONE
BEGIN:VEVENT
DTSTART;TZID=America/Chicago:20260915T080000
DTEND;TZID=America/Chicago:20260915T100000
DTSTAMP:20260424T095541
CREATED:20251029T142443Z
LAST-MODIFIED:20260224T223115Z
UID:10000169-1789459200-1789466400@www.ksrncertifications.com
SUMMARY:BLS Renewal Class September 15th at TCO Crosstown Surgery Center
DESCRIPTION:BLS is a comprehensive course that focuses on teaching participants the fundamental life-saving skills to help people experiencing cardiac arrest\, respiratory arrest or an airway obstruction. After completing this course\, participants will have the knowledge and feel confident in their abilities to perform lifesaving skills. \nThis course includes: \n\nThe AHA Chain of Survival\nHigh-quality CPR for adults\, children\, and infants\nImportant early use of an AED\nEffective ventilations using a barrier device\nImportance of teams in multi-rescuer resuscitation and performance as an effective team member during multi-rescuer CPR\nRelief of foreign-body airway obstruction (choking) for adults\, children\, and infants\n\nParticipants who have never taken BLS should take the initial class. During the initial class\, AHA videos will be shown and each section will require the participants to practice hands-on skills. The initial course is more comprehensive\, providing a more in-depth exploration of material\, techniques and practices\, making the approach and duration longer than the renewal classes. \nDuring the renewal classes participants will review the material in a PowerPoint presentation\, AHA videos\, and practice their cognitive and psychomotor skills through small-group case scenarios. \nIf a participant needs to withdrawl from class\, please notify KSRN Certifications. A $50.00 fee will be charged if a participant does not show up for class or does not notify KSRN Certifications 24 hours prior to the start of class.
URL:https://www.ksrncertifications.com/event/bls-renewal-class-september-15th-at-tco-crosstown-surgery-center/
LOCATION:TCO Crosstown Surgery Center\, 4010 W 65th St\, Edina\, MN\, 55435\, United States
ATTACH;FMTTYPE=image/png:https://www.ksrncertifications.com/wp-content/uploads/2025/10/blsNew.png
ORGANIZER;CN="Kerri Rander":MAILTO:kerri@ksrncertifications.com
END:VEVENT
BEGIN:VEVENT
DTSTART;TZID=America/Chicago:20260915T100000
DTEND;TZID=America/Chicago:20260915T160000
DTSTAMP:20260424T095541
CREATED:20251029T171754Z
LAST-MODIFIED:20260224T223045Z
UID:10000177-1789466400-1789488000@www.ksrncertifications.com
SUMMARY:PALS Renewal Class September 15th at TCO Crosstown Surgery Center
DESCRIPTION:PALS is a comprehensive course that is focused on evaluating the infant or child by using the systematic approach so the participant can rapidly identify the problems and perform appropriate interventions on an acutely ill child or infant. It is designed for healthcare providers who may be involved with and participate in the management of patients in these types of situations. Each section will have a video component as well as group discussions\, hands-on practice and skills check-off to assess what you have learned. \nThis course includes: \n\nSystems of care\, pediatric BLS review & skill checks\nSystematic approach to assessment\nRespiratory emergency management\nShock emergency management\nCardiac emergencies\nPost-cardiac arrest care\n\nIf a participant needs to withdrawl from class\, please notify KSRN Certifications. A $50.00 fee will be charged if a participant does not show up for class or does not notify KSRN Certifications 24 hours prior to the start of class.
URL:https://www.ksrncertifications.com/event/pals-renewal-class-september-15th-at-tco-crosstown-surgery-center/
LOCATION:TCO Crosstown Surgery Center\, 4010 W 65th St\, Edina\, MN\, 55435\, United States
ATTACH;FMTTYPE=image/png:https://www.ksrncertifications.com/wp-content/uploads/2025/10/palsNew.png
ORGANIZER;CN="Kerri Rander":MAILTO:kerri@ksrncertifications.com
END:VEVENT
BEGIN:VEVENT
DTSTART;TZID=America/Chicago:20260921T080000
DTEND;TZID=America/Chicago:20260921T100000
DTSTAMP:20260424T095541
CREATED:20260331T153722Z
LAST-MODIFIED:20260331T172305Z
UID:10000225-1789977600-1789984800@www.ksrncertifications.com
SUMMARY:BLS Renewal Class Septembr 21st at West Health Surgery Center
DESCRIPTION:BLS is a comprehensive course that focuses on teaching participants the fundamental life-saving skills to help people experiencing cardiac arrest\, respiratory arrest or an airway obstruction. After completing this course\, participants will have the knowledge and feel confident in their abilities to perform lifesaving skills. \nThis course includes: \n\nThe AHA Chain of Survival\nHigh-quality CPR for adults\, children\, and infants\nImportant early use of an AED\nEffective ventilations using a barrier device\nImportance of teams in multi-rescuer resuscitation and performance as an effective team member during multi-rescuer CPR\nRelief of foreign-body airway obstruction (choking) for adults\, children\, and infants\n\nParticipants who have never taken BLS should take the initial class. During the initial class\, AHA videos will be shown and each section will require the participants to practice hands-on skills. The initial course is more comprehensive\, providing a more in-depth exploration of material\, techniques and practices\, making the approach and duration longer than the renewal classes. \nDuring the renewal classes participants will review the material in a PowerPoint presentation\, AHA videos\, and practice their cognitive and psychomotor skills through small-group case scenarios. \nIf a participant needs to withdrawl from class\, please notify KSRN Certifications. A $50.00 fee will be charged if a participant does not show up for class or does not notify KSRN Certifications 24 hours prior to the start of class.
URL:https://www.ksrncertifications.com/event/bls-renewal-class-at-west-health-surgery-center/
LOCATION:West Health Surgery Center\, 2855 Campus Drive\, Plymouth\, 55441\, United States
ATTACH;FMTTYPE=image/png:https://www.ksrncertifications.com/wp-content/uploads/2025/10/blsNew.png
ORGANIZER;CN="Kerri Rander":MAILTO:kerri@ksrncertifications.com
END:VEVENT
BEGIN:VEVENT
DTSTART;TZID=America/Chicago:20260921T100000
DTEND;TZID=America/Chicago:20260921T163000
DTSTAMP:20260424T095541
CREATED:20260331T154413Z
LAST-MODIFIED:20260331T154413Z
UID:10000228-1789984800-1790008200@www.ksrncertifications.com
SUMMARY:PALS Renewal Class September 21st at West Health Surgery Center
DESCRIPTION:PALS is a comprehensive course that is focused on evaluating the infant or child by using the systematic approach so the participant can rapidly identify the problems and perform appropriate interventions on an acutely ill child or infant. It is designed for healthcare providers who may be involved with and participate in the management of patients in these types of situations. Each section will have a video component as well as group discussions\, hands-on practice and skills check-off to assess what you have learned. \nThis course includes: \n\nSystems of care\, pediatric BLS review & skill checks\nSystematic approach to assessment\nRespiratory emergency management\nShock emergency management\nCardiac emergencies\nPost-cardiac arrest care\n\nIf a participant needs to withdrawl from class\, please notify KSRN Certifications. A $50.00 fee will be charged if a participant does not show up for class or does not notify KSRN Certifications 24 hours prior to the start of class.
URL:https://www.ksrncertifications.com/event/pals-renewal-class-september-21st-at-west-health-surgery-center/
LOCATION:West Health Surgery Center\, 2855 Campus Drive\, Plymouth\, 55441\, United States
ATTACH;FMTTYPE=image/png:https://www.ksrncertifications.com/wp-content/uploads/2025/10/2025-PALS-book-image.png
ORGANIZER;CN="Kerri Rander":MAILTO:kerri@ksrncertifications.com
END:VEVENT
END:VCALENDAR